BEGIN:VCALENDAR
VERSION:2.0
PRODID:-//American Liver Foundation - ECPv6.13.2.1//NONSGML v1.0//EN
CALSCALE:GREGORIAN
METHOD:PUBLISH
X-WR-CALNAME:American Liver Foundation
X-ORIGINAL-URL:https://liverfoundation.org
X-WR-CALDESC:Events for American Liver Foundation
REFRESH-INTERVAL;VALUE=DURATION:PT1H
X-Robots-Tag:noindex
X-PUBLISHED-TTL:PT1H
BEGIN:VTIMEZONE
TZID:America/New_York
BEGIN:DAYLIGHT
TZOFFSETFROM:-0500
TZOFFSETTO:-0400
TZNAME:EDT
DTSTART:20250309T070000
END:DAYLIGHT
BEGIN:STANDARD
TZOFFSETFROM:-0400
TZOFFSETTO:-0500
TZNAME:EST
DTSTART:20251102T060000
END:STANDARD
END:VTIMEZONE
BEGIN:VEVENT
DTSTART;TZID=America/New_York:20250923T120000
DTEND;TZID=America/New_York:20250923T130000
DTSTAMP:20260420T045144
CREATED:20250811T180653Z
LAST-MODIFIED:20250818T172132Z
UID:10001448-1758628800-1758632400@liverfoundation.org
SUMMARY:Ask the Experts: MASLD Matters in Every Community
DESCRIPTION:Event Date: September 23rd\, 2025 \n\n\n\nEvent Time: 12:00 PM EST \n\n\n\nZoom link: Please register for zoom link \n\n\n\nThis one-hour webinar will focus on metabolic dysfunction-associated steatotic Liver disease (MASLD)\, a common yet often overlooked liver condition that affects individuals across all communities. Medical experts will break down key aspects of MASLD and discuss: \n\n\n\n• What is MASLD and who is at risk• How MASLD can impact your health and lead to the need for a lifesaving liver transplant• Available treatment options• How to talk to your doctor  and advocate for the care and support you need \n\n\n\nAt the conclusion of the program\, our experts will host a live Q&A session where participants can ask any additional or clarifying questions. \n\n\n\nWhether you've been diagnosed with\, or are at risk for\, MASLD or just simply want to learn more\, this program will empower you with the knowledge to take charge of your liver health. \n\n\n\n \n\n\n\n\n\n\n\nShivani Ketan Shah\, MDAssistant ProfessorDepartment of Internal MedicineTransplant HepatologyPiedmont Transplant Institute \n\n\n\n\n\n\n\nDina Halegoua-De Marzio\, MD \n\n\n\nProfessor of MedicineAssociate Chief and Director of Research\, Division of Gastroenterology and HepatologyDirector\, Jefferson Fatty Liver CenterSidney Kimmel Medical College at Thomas Jefferson University \n\n\n\n\n\n\n\nSindhu Pandurangi\, MD \n\n\n\nAssistant Professor of PediatricsDivision of Pediatric Gastroenterology\, Hepatology\, and NutritionUT Southwestern Medical Center\, Children’s Medical Center Dallas \n\n\n\n\n\n\n\nRebecca Loh\, MD  Clinical Assistant Professor of MedicineGastroenterology and Transplant HepatologyThomas Jefferson University HospitalSidney Kimmel Medical College at Thomas Jefferson University
URL:https://liverfoundation.org/events/ask-the-experts-masld-matters-in-every-community/
CATEGORIES:Programs
ATTACH;FMTTYPE=image/jpeg:https://liverfoundation.org/wp-content/uploads/2022/08/ALF-Brand-Refresh-1280x720-1.jpg
END:VEVENT
END:VCALENDAR