BEGIN:VCALENDAR
VERSION:2.0
PRODID:-//American Liver Foundation - ECPv6.13.2.1//NONSGML v1.0//EN
CALSCALE:GREGORIAN
METHOD:PUBLISH
X-ORIGINAL-URL:https://liverfoundation.org
X-WR-CALDESC:Events for American Liver Foundation
REFRESH-INTERVAL;VALUE=DURATION:PT1H
X-Robots-Tag:noindex
X-PUBLISHED-TTL:PT1H
BEGIN:VTIMEZONE
TZID:Europe/Berlin
BEGIN:DAYLIGHT
TZOFFSETFROM:+0100
TZOFFSETTO:+0200
TZNAME:CEST
DTSTART:20250330T010000
END:DAYLIGHT
BEGIN:STANDARD
TZOFFSETFROM:+0200
TZOFFSETTO:+0100
TZNAME:CET
DTSTART:20251026T010000
END:STANDARD
END:VTIMEZONE
BEGIN:VEVENT
DTSTART;TZID=Europe/Berlin:20250921T000000
DTEND;TZID=Europe/Berlin:20250921T235959
DTSTAMP:20260420T051834
CREATED:20241029T164647Z
LAST-MODIFIED:20250220T140407Z
UID:10001160-1758412800-1758499199@liverfoundation.org
SUMMARY:BMW Berlin Marathon
DESCRIPTION:
URL:https://liverlifechallenge.org/berlin/#new_tab
LOCATION:Berlin\, Germany
CATEGORIES:Events
ATTACH;FMTTYPE=image/jpeg:https://liverfoundation.org/wp-content/uploads/2023/07/Berlin.jpeg
END:VEVENT
END:VCALENDAR