BEGIN:VCALENDAR
VERSION:2.0
PRODID:-//American Liver Foundation - ECPv6.13.2.1//NONSGML v1.0//EN
CALSCALE:GREGORIAN
METHOD:PUBLISH
X-ORIGINAL-URL:https://liverfoundation.org
X-WR-CALDESC:Events for American Liver Foundation
REFRESH-INTERVAL;VALUE=DURATION:PT1H
X-Robots-Tag:noindex
X-PUBLISHED-TTL:PT1H
BEGIN:VTIMEZONE
TZID:America/Denver
BEGIN:DAYLIGHT
TZOFFSETFROM:-0700
TZOFFSETTO:-0600
TZNAME:MDT
DTSTART:20250309T090000
END:DAYLIGHT
BEGIN:STANDARD
TZOFFSETFROM:-0600
TZOFFSETTO:-0700
TZNAME:MST
DTSTART:20251102T080000
END:STANDARD
END:VTIMEZONE
BEGIN:VEVENT
DTSTART;TZID=America/Denver:20250913T000000
DTEND;TZID=America/Denver:20250913T235959
DTSTAMP:20260420T045236
CREATED:20250416T203626Z
LAST-MODIFIED:20250416T203629Z
UID:10001303-1757721600-1757807999@liverfoundation.org
SUMMARY:Liver Life Walk Colorado
DESCRIPTION: 
URL:https://liverlifewalk.org/colorado/#new_tab
LOCATION:Denver\, CO
CATEGORIES:Events
ATTACH;FMTTYPE=image/jpeg:https://liverfoundation.org/wp-content/uploads/2023/02/Liver-Life-Walk-640x360-1.jpg
END:VEVENT
END:VCALENDAR