BEGIN:VCALENDAR
VERSION:2.0
PRODID:-//American Liver Foundation - ECPv6.13.2.1//NONSGML v1.0//EN
CALSCALE:GREGORIAN
METHOD:PUBLISH
X-WR-CALNAME:American Liver Foundation
X-ORIGINAL-URL:https://liverfoundation.org
X-WR-CALDESC:Events for American Liver Foundation
REFRESH-INTERVAL;VALUE=DURATION:PT1H
X-Robots-Tag:noindex
X-PUBLISHED-TTL:PT1H
BEGIN:VTIMEZONE
TZID:America/Chicago
BEGIN:DAYLIGHT
TZOFFSETFROM:-0600
TZOFFSETTO:-0500
TZNAME:CDT
DTSTART:20250309T080000
END:DAYLIGHT
BEGIN:STANDARD
TZOFFSETFROM:-0500
TZOFFSETTO:-0600
TZNAME:CST
DTSTART:20251102T070000
END:STANDARD
END:VTIMEZONE
BEGIN:VTIMEZONE
TZID:America/Puerto_Rico
BEGIN:STANDARD
TZOFFSETFROM:-0400
TZOFFSETTO:-0400
TZNAME:AST
DTSTART:20250101T000000
END:STANDARD
END:VTIMEZONE
BEGIN:VEVENT
DTSTART;TZID=America/Chicago:20250831T000000
DTEND;TZID=America/Chicago:20250831T235959
DTSTAMP:20260420T064849
CREATED:20241210T180439Z
LAST-MODIFIED:20241210T182230Z
UID:10001204-1756598400-1756684799@liverfoundation.org
SUMMARY:TCS Sydney Marathon presented by ASICS
DESCRIPTION:
URL:https://sm25.grassrootz.com/american-liver-foundation#new_tab
LOCATION:Sydney
CATEGORIES:Events
ATTACH;FMTTYPE=image/jpeg:https://liverfoundation.org/wp-content/uploads/2024/12/Sydney-Marathon-logo.jpg
END:VEVENT
BEGIN:VEVENT
DTSTART;TZID=America/Puerto_Rico:20250831T000000
DTEND;TZID=America/Puerto_Rico:20250831T235959
DTSTAMP:20260420T064849
CREATED:20250227T163740Z
LAST-MODIFIED:20250717T155529Z
UID:10001350-1756598400-1756684799@liverfoundation.org
SUMMARY:Primary Biliary Cholangitis: Improving Itch and Markers of Liver Function with New and Emerging Agents
DESCRIPTION:
URL:https://liver.fyi/mlpbc1#new_tab
LOCATION:On-Demand For Medical Professionals
CATEGORIES:Programs
ATTACH;FMTTYPE=image/png:https://liverfoundation.org/wp-content/uploads/2024/08/Fact-Sheet-What-Does-Your-Liver-Do.png
END:VEVENT
END:VCALENDAR