BEGIN:VCALENDAR
VERSION:2.0
PRODID:-//American Liver Foundation - ECPv6.13.2.1//NONSGML v1.0//EN
CALSCALE:GREGORIAN
METHOD:PUBLISH
X-ORIGINAL-URL:https://liverfoundation.org
X-WR-CALDESC:Events for American Liver Foundation
REFRESH-INTERVAL;VALUE=DURATION:PT1H
X-Robots-Tag:noindex
X-PUBLISHED-TTL:PT1H
BEGIN:VTIMEZONE
TZID:America/New_York
BEGIN:DAYLIGHT
TZOFFSETFROM:-0500
TZOFFSETTO:-0400
TZNAME:EDT
DTSTART:20250309T070000
END:DAYLIGHT
BEGIN:STANDARD
TZOFFSETFROM:-0400
TZOFFSETTO:-0500
TZNAME:EST
DTSTART:20251102T060000
END:STANDARD
END:VTIMEZONE
BEGIN:VEVENT
DTSTART;TZID=America/New_York:20250818T190000
DTEND;TZID=America/New_York:20250818T193000
DTSTAMP:20260420T081418
CREATED:20250805T193032Z
LAST-MODIFIED:20250806T182335Z
UID:10001436-1755543600-1755545400@liverfoundation.org
SUMMARY:Training for Impact: Shaping the Future of Liver Health
DESCRIPTION:This August\, we're turning up the volume on liver advocacy. We're inviting our advocates to join a quick 30-minute training webinar designed to elevate your voice\, deepen your understanding of what’s happening on Capitol Hill\, and get Congress listening. Together\, we’ll dive into the Living Donor Protection Act\, the Treat and Reduce Obesity Act (TROA)\, and our Hepatitis B Vaccine Initiative — breaking down the issues\, our goals\, and how to be most effective when speaking with policymakers.Through storytelling\, strategy\, and solidarity\, we’ll prep you to help send a clear message: the liver community is watching\, and it’s time for Congress and the Administration to act. Whether you're writing a letter\, showing up for a meeting\, or sharing your story on social media — this is your moment to advocate with impact.Let’s make it loud. Let’s make it personal. Let’s make it impossible to ignore. Please sign-up for the date and time that works best for your schedule!August 14th 12:00-12:30pm ET August 18th 7:00-7:30pm ET \n\n\n\nEvent Date: August 14th\, August 18thEvent Time: 12:00 PM EST\, 7:00 PM ESTZoom Meeting Link: Please register below to receive the Zoom Link.
URL:https://liverfoundation.org/events/training-for-impact-shaping-the-future-of-liver-health/2025-08-18/
LOCATION:Virtual
CATEGORIES:Programs
ATTACH;FMTTYPE=image/jpeg:https://liverfoundation.org/wp-content/uploads/2022/08/ALF-Brand-Refresh-1280x720-1.jpg
END:VEVENT
END:VCALENDAR