BEGIN:VCALENDAR
VERSION:2.0
PRODID:-//American Liver Foundation - ECPv6.13.2.1//NONSGML v1.0//EN
CALSCALE:GREGORIAN
METHOD:PUBLISH
X-ORIGINAL-URL:https://liverfoundation.org
X-WR-CALDESC:Events for American Liver Foundation
REFRESH-INTERVAL;VALUE=DURATION:PT1H
X-Robots-Tag:noindex
X-PUBLISHED-TTL:PT1H
BEGIN:VTIMEZONE
TZID:America/New_York
BEGIN:DAYLIGHT
TZOFFSETFROM:-0500
TZOFFSETTO:-0400
TZNAME:EDT
DTSTART:20250309T070000
END:DAYLIGHT
BEGIN:STANDARD
TZOFFSETFROM:-0400
TZOFFSETTO:-0500
TZNAME:EST
DTSTART:20251102T060000
END:STANDARD
END:VTIMEZONE
BEGIN:VEVENT
DTSTART;TZID=America/New_York:20250727T120000
DTEND;TZID=America/New_York:20250727T130000
DTSTAMP:20260420T093217
CREATED:20250604T213413Z
LAST-MODIFIED:20250627T140828Z
UID:10001375-1753617600-1753621200@liverfoundation.org
SUMMARY:Team-based strategies for holistic patient care in Metabolic Dysfunction-Associated Steatotic Liver Disease
DESCRIPTION:Event Date: July 1\, 2025 and July 27\, 2025 \n\n\n\nEvent Time: 12:00 PM EST \n\n\n\nZoom link: Please register for zoom link \n\n\n\nEducational webinar on Metabolic Dysfunction-Associated Steatotic Liver Disease MASLD\, designed specifically for patients. This session will explore treatment options\, including nutrition and the pharmacist’s role\, and emphasize a holistic approach to managing MASH/MASLD through strategies like nutrition\, exercise\, and coordinated care.  \n\n\n\nMallory Schmoll\, PharmD\, AAHIVP Therapy Lead\, Clinical Pharmacy Strategy Walgreens Specialty Pharmacy \n\n\n\n\n\n\n\nAnthony J. Choi\, M.D. Transplant Hepatologist and Assistant Professor of Medicine Center for Liver Disease and Transplantation at Weill Cornell Weill 
URL:https://liverfoundation.org/events/team-based-strategies-for-holistic-patient-care-in-metabolic-dysfunction-associated-steatotic-liver-disease/2025-07-27/
CATEGORIES:Programs
ATTACH;FMTTYPE=image/jpeg:https://liverfoundation.org/wp-content/uploads/2022/08/ALF-Brand-Refresh-1280x720-1.jpg
END:VEVENT
END:VCALENDAR