BEGIN:VCALENDAR
VERSION:2.0
PRODID:-//American Liver Foundation - ECPv6.13.2.1//NONSGML v1.0//EN
CALSCALE:GREGORIAN
METHOD:PUBLISH
X-WR-CALNAME:American Liver Foundation
X-ORIGINAL-URL:https://liverfoundation.org
X-WR-CALDESC:Events for American Liver Foundation
REFRESH-INTERVAL;VALUE=DURATION:PT1H
X-Robots-Tag:noindex
X-PUBLISHED-TTL:PT1H
BEGIN:VTIMEZONE
TZID:America/New_York
BEGIN:DAYLIGHT
TZOFFSETFROM:-0500
TZOFFSETTO:-0400
TZNAME:EDT
DTSTART:20250309T070000
END:DAYLIGHT
BEGIN:STANDARD
TZOFFSETFROM:-0400
TZOFFSETTO:-0500
TZNAME:EST
DTSTART:20251102T060000
END:STANDARD
END:VTIMEZONE
BEGIN:VTIMEZONE
TZID:America/Puerto_Rico
BEGIN:STANDARD
TZOFFSETFROM:-0400
TZOFFSETTO:-0400
TZNAME:AST
DTSTART:20250101T000000
END:STANDARD
END:VTIMEZONE
BEGIN:VEVENT
DTSTART;TZID=America/New_York:20250531T000000
DTEND;TZID=America/New_York:20250531T235959
DTSTAMP:20260420T093714
CREATED:20250212T172610Z
LAST-MODIFIED:20250212T172614Z
UID:10001215-1748649600-1748735999@liverfoundation.org
SUMMARY:Liver Life Walk New York City
DESCRIPTION:
URL:https://liverlifewalk.org/newyorkcity/#new_tab
LOCATION:New York City\, NY
CATEGORIES:Events
ATTACH;FMTTYPE=image/jpeg:https://liverfoundation.org/wp-content/uploads/2023/02/Liver-Life-Walk-640x360-1.jpg
END:VEVENT
BEGIN:VEVENT
DTSTART;TZID=America/Puerto_Rico:20250531T000000
DTEND;TZID=America/Puerto_Rico:20250531T235959
DTSTAMP:20260420T093714
CREATED:20250227T163740Z
LAST-MODIFIED:20250717T155529Z
UID:10001347-1748649600-1748735999@liverfoundation.org
SUMMARY:Primary Biliary Cholangitis: Improving Itch and Markers of Liver Function with New and Emerging Agents
DESCRIPTION:
URL:https://liver.fyi/mlpbc1#new_tab
LOCATION:On-Demand For Medical Professionals
CATEGORIES:Programs
ATTACH;FMTTYPE=image/png:https://liverfoundation.org/wp-content/uploads/2024/08/Fact-Sheet-What-Does-Your-Liver-Do.png
END:VEVENT
END:VCALENDAR