BEGIN:VCALENDAR
VERSION:2.0
PRODID:-//American Liver Foundation - ECPv6.13.2.1//NONSGML v1.0//EN
CALSCALE:GREGORIAN
METHOD:PUBLISH
X-ORIGINAL-URL:https://liverfoundation.org
X-WR-CALDESC:Events for American Liver Foundation
REFRESH-INTERVAL;VALUE=DURATION:PT1H
X-Robots-Tag:noindex
X-PUBLISHED-TTL:PT1H
BEGIN:VTIMEZONE
TZID:America/New_York
BEGIN:DAYLIGHT
TZOFFSETFROM:-0500
TZOFFSETTO:-0400
TZNAME:EDT
DTSTART:20250309T070000
END:DAYLIGHT
BEGIN:STANDARD
TZOFFSETFROM:-0400
TZOFFSETTO:-0500
TZNAME:EST
DTSTART:20251102T060000
END:STANDARD
END:VTIMEZONE
BEGIN:VEVENT
DTSTART;TZID=America/New_York:20250525T000000
DTEND;TZID=America/New_York:20250525T235959
DTSTAMP:20260420T105310
CREATED:20240813T141012Z
LAST-MODIFIED:20250424T153659Z
UID:10001316-1748131200-1748217599@liverfoundation.org
SUMMARY:Connecting With the Experts at ASCO 2024 Clinical Pearls and Data Insights About  Anti-HER2 Therapies in Biliary Tract Cancer
DESCRIPTION: 
URL:https://liver.fyi/her2btcweb#new_tab
LOCATION:On-Demand
CATEGORIES:Programs
ATTACH;FMTTYPE=image/png:https://liverfoundation.org/wp-content/uploads/2024/08/Fact-Sheet-What-Does-Your-Liver-Do.png
END:VEVENT
END:VCALENDAR