BEGIN:VCALENDAR
VERSION:2.0
PRODID:-//American Liver Foundation - ECPv6.13.2.1//NONSGML v1.0//EN
CALSCALE:GREGORIAN
METHOD:PUBLISH
X-WR-CALNAME:American Liver Foundation
X-ORIGINAL-URL:https://liverfoundation.org
X-WR-CALDESC:Events for American Liver Foundation
REFRESH-INTERVAL;VALUE=DURATION:PT1H
X-Robots-Tag:noindex
X-PUBLISHED-TTL:PT1H
BEGIN:VTIMEZONE
TZID:America/New_York
BEGIN:DAYLIGHT
TZOFFSETFROM:-0500
TZOFFSETTO:-0400
TZNAME:EDT
DTSTART:20250309T070000
END:DAYLIGHT
BEGIN:STANDARD
TZOFFSETFROM:-0400
TZOFFSETTO:-0500
TZNAME:EST
DTSTART:20251102T060000
END:STANDARD
END:VTIMEZONE
BEGIN:VEVENT
DTSTART;TZID=America/New_York:20250513T120000
DTEND;TZID=America/New_York:20250513T130000
DTSTAMP:20260420T105316
CREATED:20250410T151318Z
LAST-MODIFIED:20250418T171826Z
UID:10001302-1747137600-1747141200@liverfoundation.org
SUMMARY:Life with Pediatric Liver Disease Series: The Road Ahead: Embracing Post-Transplant Life for Children
DESCRIPTION:Event Date: May 13th\, 2025 \n\n\n\nEvent Time: 12:00 PM EST \n\n\n\nZoom link: Please register for zoom link \n\n\n\nJoin us for an informative program dedicated to post-transplant care for pediatric liver transplant patients and their families. Led by experts Jamie Chu\, MD\, FAASLD\, Nitika Gupta\, MBBS\, DCH\, DNB\, FAASLD\, and Tamara Fazzolare\, PA-C\, this session will cover information about the first few months after transplant\, strategies for managing patient and family concerns\, ongoing care 3-5 years post-transplant\, and tips for navigating the transition from pediatric to adult care.  \n\n\n\nJamie Chu MD FAASLD  \n\n\n\nThe Mount Sinai Professor of Pediatric Liver Research \n\n\n\nMedical Director\, Pediatric Liver Transplantation \n\n\n\nDirector\, Pediatric Physician-Scientist Residency Program \n\n\n\nAssociate Director\, MD/PhD Program (MSTP) \n\n\n\nIcahn School of Medicine at Mount Sinai \n\n\n\nRecanati/Miller Transplantation Institute \n\n\n\nNitika Arora Gupta MBBS DCH DNB FAASLD \n\n\n\nProfessor of Pediatrics\,  \n\n\n\nMedical Director – Hepatology and liver transplant \n\n\n\nDivision of Pediatric Gastroenterology\, Hepatology and Nutrition \n\n\n\nEmory University School of Medicine \n\n\n\nChildren's Healthcare of Atlanta \n\n\n\nTamara (Fazzolare) Martin\, DMSc\, PA-C  \n\n\n\nExpert Physician Assistant  \n\n\n\nAdvance Practice Provider Committee  \n\n\n\nUPMC Children's Hospital of Pittsburgh  \n\n\n\nPediatric Abdominal Transplant Surgery  
URL:https://liverfoundation.org/events/life-with-pediatric-liver-disease-series-the-road-ahead-embracing-post-transplant-life-for-children/
CATEGORIES:Programs
ATTACH;FMTTYPE=image/jpeg:https://liverfoundation.org/wp-content/uploads/2022/08/ALF-Brand-Refresh-1280x720-1.jpg
END:VEVENT
END:VCALENDAR