BEGIN:VCALENDAR
VERSION:2.0
PRODID:-//American Liver Foundation - ECPv6.13.2.1//NONSGML v1.0//EN
CALSCALE:GREGORIAN
METHOD:PUBLISH
X-WR-CALNAME:American Liver Foundation
X-ORIGINAL-URL:https://liverfoundation.org
X-WR-CALDESC:Events for American Liver Foundation
REFRESH-INTERVAL;VALUE=DURATION:PT1H
X-Robots-Tag:noindex
X-PUBLISHED-TTL:PT1H
BEGIN:VTIMEZONE
TZID:America/Phoenix
BEGIN:STANDARD
TZOFFSETFROM:-0700
TZOFFSETTO:-0700
TZNAME:MST
DTSTART:20250101T000000
END:STANDARD
END:VTIMEZONE
BEGIN:VTIMEZONE
TZID:America/Puerto_Rico
BEGIN:STANDARD
TZOFFSETFROM:-0400
TZOFFSETTO:-0400
TZNAME:AST
DTSTART:20250101T000000
END:STANDARD
END:VTIMEZONE
BEGIN:VEVENT
DTSTART;TZID=America/Phoenix:20250430T000000
DTEND;TZID=America/Phoenix:20250430T235959
DTSTAMP:20260420T105247
CREATED:20241031T160134Z
LAST-MODIFIED:20241205T203225Z
UID:10001163-1745971200-1746057599@liverfoundation.org
SUMMARY:Flavors
DESCRIPTION:Unleash your inner foodie and experience a distinct evening of dining all for a good cause. Funds raised benefit the 100 million Americans affected by liver disease through resources\, education and support services and help advance our advocacy efforts on Capitol Hill and liver disease research.
URL:https://alfflavors.org/#new_tab
LOCATION:Phoenix\, AZ
CATEGORIES:Events
ATTACH;FMTTYPE=image/jpeg:https://liverfoundation.org/wp-content/uploads/2024/01/Flavors-2025-Hero.jpg
END:VEVENT
BEGIN:VEVENT
DTSTART;TZID=America/Puerto_Rico:20250430T000000
DTEND;TZID=America/Puerto_Rico:20250430T235959
DTSTAMP:20260420T105247
CREATED:20250227T163740Z
LAST-MODIFIED:20250717T155529Z
UID:10001346-1745971200-1746057599@liverfoundation.org
SUMMARY:Primary Biliary Cholangitis: Improving Itch and Markers of Liver Function with New and Emerging Agents
DESCRIPTION:
URL:https://liver.fyi/mlpbc1#new_tab
LOCATION:On-Demand For Medical Professionals
CATEGORIES:Programs
ATTACH;FMTTYPE=image/png:https://liverfoundation.org/wp-content/uploads/2024/08/Fact-Sheet-What-Does-Your-Liver-Do.png
END:VEVENT
END:VCALENDAR