BEGIN:VCALENDAR
VERSION:2.0
PRODID:-//American Liver Foundation - ECPv6.13.2.1//NONSGML v1.0//EN
CALSCALE:GREGORIAN
METHOD:PUBLISH
X-WR-CALNAME:American Liver Foundation
X-ORIGINAL-URL:https://liverfoundation.org
X-WR-CALDESC:Events for American Liver Foundation
REFRESH-INTERVAL;VALUE=DURATION:PT1H
X-Robots-Tag:noindex
X-PUBLISHED-TTL:PT1H
BEGIN:VTIMEZONE
TZID:America/Puerto_Rico
BEGIN:STANDARD
TZOFFSETFROM:-0400
TZOFFSETTO:-0400
TZNAME:AST
DTSTART:20250101T000000
END:STANDARD
END:VTIMEZONE
BEGIN:VEVENT
DTSTART;TZID=America/Puerto_Rico:20250412T000000
DTEND;TZID=America/Puerto_Rico:20250412T235959
DTSTAMP:20260420T134327
CREATED:20250108T200425Z
LAST-MODIFIED:20250108T200430Z
UID:10001205-1744416000-1744502399@liverfoundation.org
SUMMARY:Liver Life Walk Atlanta
DESCRIPTION:
URL:https://liverlifewalk.org/atlanta/#new_tab
LOCATION:Atlanta\, GA
CATEGORIES:Events
ATTACH;FMTTYPE=image/jpeg:https://liverfoundation.org/wp-content/uploads/2023/02/Liver-Life-Walk-640x360-1.jpg
END:VEVENT
END:VCALENDAR