BEGIN:VCALENDAR
VERSION:2.0
PRODID:-//American Liver Foundation - ECPv6.13.2.1//NONSGML v1.0//EN
CALSCALE:GREGORIAN
METHOD:PUBLISH
X-ORIGINAL-URL:https://liverfoundation.org
X-WR-CALDESC:Events for American Liver Foundation
REFRESH-INTERVAL;VALUE=DURATION:PT1H
X-Robots-Tag:noindex
X-PUBLISHED-TTL:PT1H
BEGIN:VTIMEZONE
TZID:America/Puerto_Rico
BEGIN:STANDARD
TZOFFSETFROM:-0400
TZOFFSETTO:-0400
TZNAME:AST
DTSTART:20250101T000000
END:STANDARD
END:VTIMEZONE
BEGIN:VTIMEZONE
TZID:America/New_York
BEGIN:DAYLIGHT
TZOFFSETFROM:-0500
TZOFFSETTO:-0400
TZNAME:EDT
DTSTART:20250309T070000
END:DAYLIGHT
BEGIN:STANDARD
TZOFFSETFROM:-0400
TZOFFSETTO:-0500
TZNAME:EST
DTSTART:20251102T060000
END:STANDARD
END:VTIMEZONE
BEGIN:VEVENT
DTSTART;TZID=America/Puerto_Rico:20250410T130000
DTEND;TZID=America/Puerto_Rico:20250410T143000
DTSTAMP:20260420T134353
CREATED:20241207T044226Z
LAST-MODIFIED:20241207T044229Z
UID:10001195-1744290000-1744295400@liverfoundation.org
SUMMARY:Sharing the Journey\, an ALF support network for Patients
DESCRIPTION:The American Liver Foundation offers this support network for people who have been diagnosed with liver disease and those who are awaiting liver transplant. Liver disease can pose many unique challenges\, both physically and emotionally. Sharing the Journey with others who face these challenges can be extremely helpful. Having a connection with others who truly understand what you are going through can reduce your feelings of isolation and help you find ways to cope. A licensed social worker will facilitate all sessions. There is no fee to participate. You must be aged 18 or older to join. Groups will meet on the second Thursday of each month from 1:00 – 2:30 PM Eastern Time via Zoom. \n\n\n\n\nJanuary 9\n\n\n\nFebruary 13\n\n\n\nMarch 13\n\n\n\nApril 10\n\n\n\nMay 8\n\n\n\nJune 12\n\n\n\nJuly 10\n\n\n\nAugust 14\n\n\n\nSeptember 11\n\n\n\nOctober 9\n\n\n\nNovember 13\n\n\n\nDecember 11\n\n\n\n\nEvent Time: 1:00 to 2:30 p.m. ESTZoom Meeting Link: Please register below to receive the Zoom Link. \n\n\n\n 
URL:https://liverfoundation.org/events/sharing-the-journey-an-alf-support-network-for-patients-2025/2025-04-10/
CATEGORIES:Programs
ATTACH;FMTTYPE=image/jpeg:https://liverfoundation.org/wp-content/uploads/2024/02/Patients.jpg
END:VEVENT
BEGIN:VEVENT
DTSTART;TZID=America/New_York:20250410T180000
DTEND;TZID=America/New_York:20250410T200000
DTSTAMP:20260420T134353
CREATED:20250122T182308Z
LAST-MODIFIED:20250219T181806Z
UID:10001207-1744308000-1744315200@liverfoundation.org
SUMMARY:Leadership in Liver Health: A Night of Inspiration and Impact
DESCRIPTION:Event Date: April 10\, 2025 \n\n\n\nEvent Time: 6:00 p.m. EST \n\n\n\nEvent Location: Westin Copley Place | Boston\, MA \n\n\n\nPrepare for an unforgettable evening of inspiration with American Liver Foundation. Join us for an inspirational cocktail reception and be among the first to hear about the incredible progress American Liver Foundation (ALF) is making in the fight against liver disease. This special evening will feature a remarkable lineup of speakers and presentations\, including: \n\n\n\nExciting Organizational Updates \n\n\n\nBe among the first to hear exciting updates from ALF CEO\, Lorraine Stiehl\, on ALF’s pioneering public health initiatives\, transformative public policy efforts\, and innovative patient support services. \n\n\n\nResearch News \n\n\n\nTake a look inside ALF’s ambitious research portfolio\, including our nearly $1 million investment in cutting-edge liver disease research\, with David Cohen\, MD\, PhD\, Chief of the Division of Gastroenterology\, Hepatology & Endoscopy at Brigham and Women’s Hospital\, and Helene Jordan\, PhD\, Sr. Director of Research Program Management. \n\n\n\nBoston Marathon Legends: Running for a Cause \n\n\n\nThe evening will also honor remarkable individuals who have dedicated their lives to channeling their passion for running for the betterment of their community. Special guests - including local running legends Dave McGillivray and Bob Dunfey\, will join 2024 Liver Life Challenge Ambassador Jim Miller and share stories of unwavering strength and dedication; their inspiring journeys will leave you deeply moved and motivated to continue supporting this important cause. \n\n\n\nThis is an evening you won’t want to miss – registration and ticket purchasing options below.  \n\n\n\nFor inquiries\, or to explore sponsorship opportunities\, please email Kayla Villneurve.
URL:https://liverfoundation.org/events/raising-spirits-for-liver-health-a-night-of-inspiration-impact-2025-boston/
CATEGORIES:Events
ATTACH;FMTTYPE=image/jpeg:https://liverfoundation.org/wp-content/uploads/2022/08/ALF-Brand-Refresh-1280x720-1.jpg
END:VEVENT
END:VCALENDAR