BEGIN:VCALENDAR
VERSION:2.0
PRODID:-//American Liver Foundation - ECPv6.13.2.1//NONSGML v1.0//EN
CALSCALE:GREGORIAN
METHOD:PUBLISH
X-WR-CALNAME:American Liver Foundation
X-ORIGINAL-URL:https://liverfoundation.org
X-WR-CALDESC:Events for American Liver Foundation
REFRESH-INTERVAL;VALUE=DURATION:PT1H
X-Robots-Tag:noindex
X-PUBLISHED-TTL:PT1H
BEGIN:VTIMEZONE
TZID:America/New_York
BEGIN:DAYLIGHT
TZOFFSETFROM:-0500
TZOFFSETTO:-0400
TZNAME:EDT
DTSTART:20240310T070000
END:DAYLIGHT
BEGIN:STANDARD
TZOFFSETFROM:-0400
TZOFFSETTO:-0500
TZNAME:EST
DTSTART:20241103T060000
END:STANDARD
BEGIN:DAYLIGHT
TZOFFSETFROM:-0500
TZOFFSETTO:-0400
TZNAME:EDT
DTSTART:20250309T070000
END:DAYLIGHT
BEGIN:STANDARD
TZOFFSETFROM:-0400
TZOFFSETTO:-0500
TZNAME:EST
DTSTART:20251102T060000
END:STANDARD
END:VTIMEZONE
BEGIN:VEVENT
DTSTART;TZID=America/New_York:20240301T000000
DTEND;TZID=America/New_York:20250329T235959
DTSTAMP:20260420T175346
CREATED:20240805T211801Z
LAST-MODIFIED:20250327T163642Z
UID:10001298-1709251200-1743292799@liverfoundation.org
SUMMARY:Evolution of HER2-Targeted Therapy in Gastroesophageal Adenocarcinoma (GEA)
DESCRIPTION:We've collaborated with Medscape Oncology Global and Hope for Stomach Cancer to present a CME opportunity for health care professionals seeking to better understand established and emerging data related to HER2-targeted therapies in GEA. This on-demand course is available for continuing education credit until 3/29/25. \nUpon completion of this activity\, participants will: \n\nHave increased knowledge regarding the\n\nBiological rationale for using bispecific antibodies to target HER2 in GEA\n\n\nHave greater competence related to\n\nSelecting the most appropriate anti-HER2 therapy for a patient with HER2-positive GEA\nManaging adverse events associated with anti-HER2 therapies for patients with HER2-positive GEA\n\n\nDemonstrate greater confidence in their ability to\n\nCollaborate with the patient when developing a treatment plan for their HER2-positive GEA\n\n\n\nLearn more and register for this course: https://liver.fyi/HER2GEA \n 
URL:https://liver.fyi/HER2GEA#new_tab
LOCATION:On-Demand
CATEGORIES:Programs
ATTACH;FMTTYPE=image/png:https://liverfoundation.org/wp-content/uploads/2024/08/Fact-Sheet-What-Does-Your-Liver-Do.png
END:VEVENT
BEGIN:VEVENT
DTSTART;TZID=America/New_York:20241212T130000
DTEND;TZID=America/New_York:20241212T143000
DTSTAMP:20260420T175346
CREATED:20240716T145612Z
LAST-MODIFIED:20240716T145612Z
UID:10001083-1734008400-1734013800@liverfoundation.org
SUMMARY:Sharing the Journey\, an ALF support network for Patients
DESCRIPTION:The American Liver Foundation offers this support network for people who have been diagnosed with liver disease and those who are awaiting liver transplant. Liver disease can pose many unique challenges\, both physically and emotionally. Sharing the Journey with others who face these challenges can be extremely helpful. Having a connection with others who truly understand what you are going through can reduce your feelings of isolation and help you find ways to cope. A licensed social worker will facilitate all sessions. There is no fee to participate. You must be aged 18 or older to join. Groups will meet on the second Thursday of each month from 1:00 – 2:30 PM Eastern Time via Zoom. \n\nMarch 14\, 2024\nApril 11\, 2024\nMay 9\, 2024\nJune 13\, 2024\nJuly 11\, 2024\nAugust 8\, 2024\nSeptember 12\, 2024\nOctober 10\, 2024\nNovember 14\, 2024\nDecember 12\, 2024\n\nEvent Time: 1:00 to 2:30 p.m. ESTZoom Meeting Link: Please register below to receive the Zoom Link. \n\n 
URL:https://liverfoundation.org/events/sharing-the-journey-an-alf-support-network-for-patients/2024-12-12/
LOCATION:Virtual
CATEGORIES:Programs
ATTACH;FMTTYPE=image/jpeg:https://liverfoundation.org/wp-content/uploads/2024/02/Patients.jpg
END:VEVENT
END:VCALENDAR