BEGIN:VCALENDAR
VERSION:2.0
PRODID:-//American Liver Foundation - ECPv6.13.2.1//NONSGML v1.0//EN
CALSCALE:GREGORIAN
METHOD:PUBLISH
X-ORIGINAL-URL:https://liverfoundation.org
X-WR-CALDESC:Events for American Liver Foundation
REFRESH-INTERVAL;VALUE=DURATION:PT1H
X-Robots-Tag:noindex
X-PUBLISHED-TTL:PT1H
BEGIN:VTIMEZONE
TZID:America/New_York
BEGIN:DAYLIGHT
TZOFFSETFROM:-0500
TZOFFSETTO:-0400
TZNAME:EDT
DTSTART:20240310T070000
END:DAYLIGHT
BEGIN:STANDARD
TZOFFSETFROM:-0400
TZOFFSETTO:-0500
TZNAME:EST
DTSTART:20241103T060000
END:STANDARD
BEGIN:DAYLIGHT
TZOFFSETFROM:-0500
TZOFFSETTO:-0400
TZNAME:EDT
DTSTART:20250309T070000
END:DAYLIGHT
BEGIN:STANDARD
TZOFFSETFROM:-0400
TZOFFSETTO:-0500
TZNAME:EST
DTSTART:20251102T060000
END:STANDARD
END:VTIMEZONE
BEGIN:VEVENT
DTSTART;TZID=America/New_York:20240301T000000
DTEND;TZID=America/New_York:20250329T235959
DTSTAMP:20260420T234526
CREATED:20240805T211801Z
LAST-MODIFIED:20250327T163642Z
UID:10001298-1709251200-1743292799@liverfoundation.org
SUMMARY:Evolution of HER2-Targeted Therapy in Gastroesophageal Adenocarcinoma (GEA)
DESCRIPTION:We've collaborated with Medscape Oncology Global and Hope for Stomach Cancer to present a CME opportunity for health care professionals seeking to better understand established and emerging data related to HER2-targeted therapies in GEA. This on-demand course is available for continuing education credit until 3/29/25. \nUpon completion of this activity\, participants will: \n\nHave increased knowledge regarding the\n\nBiological rationale for using bispecific antibodies to target HER2 in GEA\n\n\nHave greater competence related to\n\nSelecting the most appropriate anti-HER2 therapy for a patient with HER2-positive GEA\nManaging adverse events associated with anti-HER2 therapies for patients with HER2-positive GEA\n\n\nDemonstrate greater confidence in their ability to\n\nCollaborate with the patient when developing a treatment plan for their HER2-positive GEA\n\n\n\nLearn more and register for this course: https://liver.fyi/HER2GEA \n 
URL:https://liver.fyi/HER2GEA#new_tab
LOCATION:On-Demand
CATEGORIES:Programs
ATTACH;FMTTYPE=image/png:https://liverfoundation.org/wp-content/uploads/2024/08/Fact-Sheet-What-Does-Your-Liver-Do.png
END:VEVENT
BEGIN:VEVENT
DTSTART;TZID=America/New_York:20241001T080000
DTEND;TZID=America/New_York:20241031T170000
DTSTAMP:20260420T234526
CREATED:20240702T155451Z
LAST-MODIFIED:20250723T200350Z
UID:10001057-1727769600-1730394000@liverfoundation.org
SUMMARY:Virtual Liver Life Walk
DESCRIPTION:
URL:https://liverlifewalk.org/virtualwalk#new_tab
LOCATION:Virtual
CATEGORIES:Events
ATTACH;FMTTYPE=image/jpeg:https://liverfoundation.org/wp-content/uploads/2023/02/Liver-Life-Walk-640x360-1.jpg
END:VEVENT
BEGIN:VEVENT
DTSTART;TZID=America/New_York:20241023T123000
DTEND;TZID=America/New_York:20241023T133000
DTSTAMP:20260420T234526
CREATED:20240924T181935Z
LAST-MODIFIED:20240924T182333Z
UID:10001157-1729686600-1729690200@liverfoundation.org
SUMMARY:¿Está usted a riesgo de sufrir cáncer del hígado? Pregunte a los expertos
DESCRIPTION:Únase a nosotros para un seminario de web revelador que explora los aspectos únicos del cáncer del hígado dentro de las comunidades hispanas/latinas\, realizado completamente en español. Esta sesión cubrirá factores clave que incluyen prevalencia\, factores de riesgo\, influencias culturales y estrategias efectivas de prevención y tratamiento. Los oradores expertos brindarán información valiosa y organizarán una sesión de preguntas y respuestas en vivo al final. \n\n\n\nFecha del evento: 23 de Octubre del 2024Hora del evento: 12:30 p.m. ESTZoom: Regístrese para obtener el enlace de Zoom. \n\n\n\nPresentadores: \n\n\n\n\n\n\n\n\nDaniel Campos\, MDProfesor Clínico Asociado de CirugíaDepartamento de Cirugía Facultad de Medicina Grossman de la Universidad de Nueva YorkNYU Langone Health  \n\n\n\n\n\n\n\n\n\nViviana Figueroa Diaz\, MDProfesor Ayudante Doctor de MedicinaDepartamento de MedicinaFacultad de Medicina Grossman de la Universidad de Nueva YorkNYU Langone Health  \n\n\n\n\n\n\n\n\n\nAlejandro Torres-Hernandez\, MProfesor Ayudante Clínico de CirugíaInstituto de Trasplantes y División de Cirugía HPBFacultad de Medicina Grossman de la Universidad de Nueva YorkNYU Langone Health \n\n\n\n\nDetails in English\n\n\n\nProgram Title: Are You at Risk for Liver Cancer? Ask the ExpertsProgram Description: Join us for an insightful webinar exploring the unique aspects of liver cancer within the Hispanic / Latin communities\, held completely in Spanish. This session will cover key factors including prevalence\, risk factors\, cultural influences\, and effective prevention and treatment strategies. Expert speakers will provide valuable information and host a live question-and-answer session at the end. \n\n\n\nEvent Date: Oct. 23rd\, 2024Event Time: 12:30pm ESTZoom: Please register for the Zoom link \n\n\n\nPresenters: \n\n\n\n\n\n\n\n\nDaniel Campos\, MDClinical Associate Professor of SurgeryDepartment of Surgery NYU Grossman School of MedicineNYU Langone Health  \n\n\n\n\n\n\n\n\n\nViviana Figueroa Diaz\, MDAssistant Professor of MedicineDepartment of MedicineNYU Grossman School of MedicineNYU Langone Health  \n\n\n\n\n\n\n\n\n\nAlejandro Torres-Hernandez\, MClinical Assistant Professor of Surgery Transplant Institute & Division of HPB SurgeryNYU Grossman School of MedicineNYU Langone Health
URL:https://liverfoundation.org/events/esta-usted-a-riesgo-de-sufrir-cancer-del-higado-pregunte-a-los-expertos/
LOCATION:Virtual
CATEGORIES:Programs
ATTACH;FMTTYPE=image/jpeg:https://liverfoundation.org/wp-content/uploads/2022/08/ALF-Brand-Refresh-1280x720-1.jpg
END:VEVENT
END:VCALENDAR