BEGIN:VCALENDAR
VERSION:2.0
PRODID:-//American Liver Foundation - ECPv6.13.2.1//NONSGML v1.0//EN
CALSCALE:GREGORIAN
METHOD:PUBLISH
X-ORIGINAL-URL:https://liverfoundation.org
X-WR-CALDESC:Events for American Liver Foundation
REFRESH-INTERVAL;VALUE=DURATION:PT1H
X-Robots-Tag:noindex
X-PUBLISHED-TTL:PT1H
BEGIN:VTIMEZONE
TZID:America/New_York
BEGIN:DAYLIGHT
TZOFFSETFROM:-0500
TZOFFSETTO:-0400
TZNAME:EDT
DTSTART:20220313T070000
END:DAYLIGHT
BEGIN:STANDARD
TZOFFSETFROM:-0400
TZOFFSETTO:-0500
TZNAME:EST
DTSTART:20221106T060000
END:STANDARD
END:VTIMEZONE
BEGIN:VEVENT
DTSTART;TZID=America/New_York:20220801T000000
DTEND;TZID=America/New_York:20220831T235900
DTSTAMP:20260425T222912
CREATED:20220615T165900Z
LAST-MODIFIED:20220809T184252Z
UID:10000133-1659312000-1661990340@liverfoundation.org
SUMMARY:Lend Your Voice Campaign
DESCRIPTION:During the month of August\, ALF Advocates across the country will participate in virtual or in-person meetings with Members of Congress to share their personal connections to liver disease – communicating the medical\, emotional\, and financial costs the disease takes on patients and families.
URL:https://liverfoundation.org/how-you-can-help/get-involved/advocate/take-action/
CATEGORIES:Programs
ATTACH;FMTTYPE=image/jpeg:https://liverfoundation.org/wp-content/uploads/2022/06/Advocate-Hill-Day-1.jpg
END:VEVENT
BEGIN:VEVENT
DTSTART;TZID=America/New_York:20220806T080000
DTEND;TZID=America/New_York:20220806T150000
DTSTAMP:20260425T222912
CREATED:20220131T200000Z
LAST-MODIFIED:20220621T161326Z
UID:10000093-1659772800-1659798000@liverfoundation.org
SUMMARY:ALF Liver Life Walk: Salt Lake City
DESCRIPTION:We walk to create a better future for 30 million Americans with liver disease and the 100 million Americans at risk of liver disease.
URL:https://liverlifewalk.org/saltlakecity/#new_tab
CATEGORIES:Events
ATTACH;FMTTYPE=image/jpeg:https://liverfoundation.org/wp-content/uploads/2022/06/New-Brand-LF.org-Walk-Events-3.jpg
END:VEVENT
END:VCALENDAR