BEGIN:VCALENDAR
VERSION:2.0
PRODID:-//American Liver Foundation - ECPv6.13.2.1//NONSGML v1.0//EN
CALSCALE:GREGORIAN
METHOD:PUBLISH
X-ORIGINAL-URL:https://liverfoundation.org
X-WR-CALDESC:Events for American Liver Foundation
REFRESH-INTERVAL;VALUE=DURATION:PT1H
X-Robots-Tag:noindex
X-PUBLISHED-TTL:PT1H
BEGIN:VTIMEZONE
TZID:America/New_York
BEGIN:DAYLIGHT
TZOFFSETFROM:-0500
TZOFFSETTO:-0400
TZNAME:EDT
DTSTART:20220313T070000
END:DAYLIGHT
BEGIN:STANDARD
TZOFFSETFROM:-0400
TZOFFSETTO:-0500
TZNAME:EST
DTSTART:20221106T060000
END:STANDARD
END:VTIMEZONE
BEGIN:VEVENT
DTSTART;TZID=America/New_York:20220525T120000
DTEND;TZID=America/New_York:20220525T130000
DTSTAMP:20260425T180410
CREATED:20220418T180300Z
LAST-MODIFIED:20220719T152600Z
UID:10000108-1653480000-1653483600@liverfoundation.org
SUMMARY:What You Need to Know: Diabetes and Protecting Your Liver
DESCRIPTION:The American Liver Foundation and the American Diabetes Association will present on the connection between NASH and Type-2 Diabetes. Dr. Tamar Taddei and Dr. Robert A. Gabbay will be joining forces to answer your questions on the connection between NAFLD/NASH and Type 2 Diabetes.   \nThis program can be viewed at 12 PM eastern on the ALF Facebook Page. \nVisit the ALF Facebook event here. \n \nDr. Tamar Taddei\, MD\nProfessor of Internal Medicine (Digestive Diseases); Director\, Regional Liver Cancer Program\, VA VISN (Southern New England); Associate Program Director\, Yale MD-PhD Program \n \nDr. Robert Gabbay\, MD\, PhD\nChief Science and Medical Officer\nAmerican Diabetes Association
URL:https://liverfoundation.org/events/what-you-need-to-know-diabetes-and-protecting-your-liver/
CATEGORIES:Programs
ATTACH;FMTTYPE=image/jpeg:https://liverfoundation.org/wp-content/uploads/2022/06/Health_Diet.jpg
END:VEVENT
END:VCALENDAR