BEGIN:VCALENDAR
VERSION:2.0
PRODID:-//American Liver Foundation - ECPv6.13.2.1//NONSGML v1.0//EN
CALSCALE:GREGORIAN
METHOD:PUBLISH
X-WR-CALNAME:American Liver Foundation
X-ORIGINAL-URL:https://liverfoundation.org
X-WR-CALDESC:Events for American Liver Foundation
REFRESH-INTERVAL;VALUE=DURATION:PT1H
X-Robots-Tag:noindex
X-PUBLISHED-TTL:PT1H
BEGIN:VTIMEZONE
TZID:America/New_York
BEGIN:DAYLIGHT
TZOFFSETFROM:-0500
TZOFFSETTO:-0400
TZNAME:EDT
DTSTART:20220313T070000
END:DAYLIGHT
BEGIN:STANDARD
TZOFFSETFROM:-0400
TZOFFSETTO:-0500
TZNAME:EST
DTSTART:20221106T060000
END:STANDARD
END:VTIMEZONE
BEGIN:VEVENT
DTSTART;TZID=America/New_York:20220401T000000
DTEND;TZID=America/New_York:20220401T235900
DTSTAMP:20260425T144303
CREATED:20220314T170400Z
LAST-MODIFIED:20220719T152739Z
UID:10000104-1648771200-1648857540@liverfoundation.org
SUMMARY:Memorial Sloan Kettering v. University of Colorado | Anschutz Medical Campus California Pacific Medical Center v. University of Texas | Southwestern Montefiore-Einstein v. Kaiser Permanente LA Medical Center
DESCRIPTION:Academic Debates professional education programs provide primary care physicians a unique opportunity to learn more directly from specialists on various topics.  They usually include a presentation followed by a Q & A where participants have the chance to ask questions. Topics are different at every program and may include: liver wellness\, viral hepatitis\, alcohol-related liver disease\, NASH/NAFLD\, cirrhosis\, autoimmune liver diseases\, pediatric conditions\, and diet/nutrition.
URL:https://alfevents.org/debatemadness/#new_tab
CATEGORIES:Programs
ATTACH;FMTTYPE=image/jpeg:https://liverfoundation.org/wp-content/uploads/2022/06/2022-Academic-Debates-–-Event-Image.jpg
END:VEVENT
END:VCALENDAR