BEGIN:VCALENDAR
VERSION:2.0
PRODID:-//American Liver Foundation - ECPv6.13.2.1//NONSGML v1.0//EN
CALSCALE:GREGORIAN
METHOD:PUBLISH
X-ORIGINAL-URL:https://liverfoundation.org
X-WR-CALDESC:Events for American Liver Foundation
REFRESH-INTERVAL;VALUE=DURATION:PT1H
X-Robots-Tag:noindex
X-PUBLISHED-TTL:PT1H
BEGIN:VTIMEZONE
TZID:America/New_York
BEGIN:DAYLIGHT
TZOFFSETFROM:-0500
TZOFFSETTO:-0400
TZNAME:EDT
DTSTART:20220313T070000
END:DAYLIGHT
BEGIN:STANDARD
TZOFFSETFROM:-0400
TZOFFSETTO:-0500
TZNAME:EST
DTSTART:20221106T060000
END:STANDARD
END:VTIMEZONE
BEGIN:VEVENT
DTSTART;TZID=America/New_York:20220301T000000
DTEND;TZID=America/New_York:20220330T235900
DTSTAMP:20260425T144406
CREATED:20220119T224900Z
LAST-MODIFIED:20220621T161403Z
UID:10000085-1646092800-1648684740@liverfoundation.org
SUMMARY:ALF Liver Life Challenge: 30 in 30 Challenge
DESCRIPTION:Are you willing to go the extra mile for ALF? Then join us for the 30 in 30 Challenge. \nRun\, Bike\, Hike or Swim 30 miles in 30 days to support the 30 million Americans affected by liver disease.
URL:https://liverlifechallenge.org/30in30/#new_tab
CATEGORIES:Events
ATTACH;FMTTYPE=image/jpeg:https://liverfoundation.org/wp-content/uploads/2022/06/New-Brand-LF.org-Challenge-Events-5.jpg
END:VEVENT
BEGIN:VEVENT
DTSTART;TZID=America/New_York:20220330T000000
DTEND;TZID=America/New_York:20220330T235900
DTSTAMP:20260425T144406
CREATED:20220303T004500Z
LAST-MODIFIED:20220719T152757Z
UID:10000102-1648598400-1648684740@liverfoundation.org
SUMMARY:University of Wisconsin v. Advocate Lutheran | Aurora Healthcare v. Einstein Healthcare Network | Northwestern Medicine v. University of Illinois Chicago
DESCRIPTION:Academic Debates professional education programs provide primary care physicians a unique opportunity to learn more directly from specialists on various topics.  They usually include a presentation followed by a Q & A where participants have the chance to ask questions. Topics are different at every program and may include: liver wellness\, viral hepatitis\, alcohol-related liver disease\, NASH/NAFLD\, cirrhosis\, autoimmune liver diseases\, pediatric conditions\, and diet/nutrition. \nDebate 1\nBariatric surgery SHOULD be first line therapy for obese patients with diabetes and advances fibrosis\nUniversity of Wisconsin v. Advocate Lutheran \nDebate 2\nIT IS TIME for the MELD-Na score for liver allocation to be modified\nAurora Healthcare v. Einstein Healthcare Network \nDebate 3\nAMAC: Dual immunosuppression long-term should be used for all patients with autoimmune liver disease\nNorthwestern Medicine v. University of Illinois Chicago \n[otw_shortcode_button href="https://alfevents.org/debatemadness/register30/" size="medium" icon_position="left" shape="radius" color_class="otw-red" target="_blank"]Register to attend[/otw_shortcode_button]
URL:https://alfevents.org/debatemadness/#new_tab
CATEGORIES:Programs
ATTACH;FMTTYPE=image/jpeg:https://liverfoundation.org/wp-content/uploads/2022/06/2022-Academic-Debates-–-Event-Image.jpg
END:VEVENT
END:VCALENDAR